BEGIN:VCALENDAR
VERSION:2.0
PRODID:-//ChamberMaster//Event Calendar 2.0//EN
METHOD:PUBLISH
X-PUBLISHED-TTL:P3D
REFRESH-INTERVAL:P3D
CALSCALE:GREGORIAN
BEGIN:VEVENT
DTSTART:20260401T150000Z
DTEND:20260401T183000Z
X-MICROSOFT-CDO-ALLDAYEVENT:FALSE
SUMMARY:FREE Community Swim Day
DESCRIPTION:FREE Community Swim Day!
X-ALT-DESC;FMTTYPE=text/html:FREE Community Swim Day!&nbsp\;
LOCATION:West Washington YMCA 1111 W Washington St. West Bend\, WI 53095
UID:e.267.20151
SEQUENCE:3
DTSTAMP:20260420T035858Z
URL:https://www.wbachamber.org/events/details/free-community-swim-day-20151
END:VEVENT

END:VCALENDAR
